BEGIN:VCALENDAR
VERSION:2.0
PRODID:-//Boston Area Beekeepers Association - ECPv6.15.20//NONSGML v1.0//EN
CALSCALE:GREGORIAN
METHOD:PUBLISH
X-WR-CALNAME:Boston Area Beekeepers Association
X-ORIGINAL-URL:https://bostonbeekeepers.org
X-WR-CALDESC:Events for Boston Area Beekeepers Association
REFRESH-INTERVAL;VALUE=DURATION:PT1H
X-Robots-Tag:noindex
X-PUBLISHED-TTL:PT1H
BEGIN:VTIMEZONE
TZID:America/New_York
BEGIN:DAYLIGHT
TZOFFSETFROM:-0500
TZOFFSETTO:-0400
TZNAME:EDT
DTSTART:20240310T070000
END:DAYLIGHT
BEGIN:STANDARD
TZOFFSETFROM:-0400
TZOFFSETTO:-0500
TZNAME:EST
DTSTART:20241103T060000
END:STANDARD
BEGIN:DAYLIGHT
TZOFFSETFROM:-0500
TZOFFSETTO:-0400
TZNAME:EDT
DTSTART:20250309T070000
END:DAYLIGHT
BEGIN:STANDARD
TZOFFSETFROM:-0400
TZOFFSETTO:-0500
TZNAME:EST
DTSTART:20251102T060000
END:STANDARD
BEGIN:DAYLIGHT
TZOFFSETFROM:-0500
TZOFFSETTO:-0400
TZNAME:EDT
DTSTART:20260308T070000
END:DAYLIGHT
BEGIN:STANDARD
TZOFFSETFROM:-0400
TZOFFSETTO:-0500
TZNAME:EST
DTSTART:20261101T060000
END:STANDARD
END:VTIMEZONE
BEGIN:VEVENT
DTSTART;TZID=America/New_York:20251218T190000
DTEND;TZID=America/New_York:20251218T210000
DTSTAMP:20260423T190234
CREATED:20251202T040702Z
LAST-MODIFIED:20251202T040702Z
UID:10000303-1766084400-1766091600@bostonbeekeepers.org
SUMMARY:Natural Disaster Impacts on Bees Presentation 12/18
DESCRIPTION:Join BABA and Jen Keller for a presentation about how natural disasters impact bees. This presentation will dive into Jennifer’s experience with a hurricane that wiped out a hundreds of hives in North Carolina\, and how the beekeepers in NC came together to rebuild. Learn more on 12/18/25 at 7PM! \nJennifer Keller is a member of Dr. David Tarpy’s apiculture program at NC State University. Her past duties include rearing\, instrumental insemination\, and seasonal management of honey bee colonies. She has now transitioned into a position more focused on outreach. \nThere will be a $5 charge for non-members to attend this presentation \nZoom link: https://us06web.zoom.us/j/84248234784
URL:https://bostonbeekeepers.org/single-event/natural-disaster-impacts-on-bees-presentation-12-18/
LOCATION:https://us06web.zoom.us/j/84248234784
END:VEVENT
END:VCALENDAR