BEGIN:VCALENDAR
VERSION:2.0
PRODID:-//Boston Area Beekeepers Association - ECPv6.15.20//NONSGML v1.0//EN
CALSCALE:GREGORIAN
METHOD:PUBLISH
X-ORIGINAL-URL:https://bostonbeekeepers.org
X-WR-CALDESC:Events for Boston Area Beekeepers Association
REFRESH-INTERVAL;VALUE=DURATION:PT1H
X-Robots-Tag:noindex
X-PUBLISHED-TTL:PT1H
BEGIN:VTIMEZONE
TZID:America/New_York
BEGIN:DAYLIGHT
TZOFFSETFROM:-0500
TZOFFSETTO:-0400
TZNAME:EDT
DTSTART:20220313T070000
END:DAYLIGHT
BEGIN:STANDARD
TZOFFSETFROM:-0400
TZOFFSETTO:-0500
TZNAME:EST
DTSTART:20221106T060000
END:STANDARD
BEGIN:DAYLIGHT
TZOFFSETFROM:-0500
TZOFFSETTO:-0400
TZNAME:EDT
DTSTART:20230312T070000
END:DAYLIGHT
BEGIN:STANDARD
TZOFFSETFROM:-0400
TZOFFSETTO:-0500
TZNAME:EST
DTSTART:20231105T060000
END:STANDARD
BEGIN:DAYLIGHT
TZOFFSETFROM:-0500
TZOFFSETTO:-0400
TZNAME:EDT
DTSTART:20240310T070000
END:DAYLIGHT
BEGIN:STANDARD
TZOFFSETFROM:-0400
TZOFFSETTO:-0500
TZNAME:EST
DTSTART:20241103T060000
END:STANDARD
END:VTIMEZONE
BEGIN:VEVENT
DTSTART;TZID=America/New_York:20231207T190000
DTEND;TZID=America/New_York:20231207T203000
DTSTAMP:20260425T225621
CREATED:20240608T220505Z
LAST-MODIFIED:20240608T220505Z
UID:10000060-1701975600-1701981000@bostonbeekeepers.org
SUMMARY:Frontiers in Small Hive Beetle Control
DESCRIPTION:Frontiers in Small Hive Beetle ControlDate: Thursday\, Dec. 7\, 2023\, 7:00-8:30pm via Zoom\nLocation: Zoom \nRegister for Lecture\nAs far back as the 1960s\, the American beekeeping industry had identified Aethina tumida as a potential threat to US beekeeping. Decades before their arrival in the United States\, Caron (1978) stated that “One can only hope the beetle will not be transported [from Africa] to other beekeeping areas.”\nDespite their long-identified threat to American beekeeping\, very few controls have been labelled or licensed for in-hive use. Further\, no acute control has been licensed for ‘safeguarding’ supplementary pollen or protein substitutes\, substitutes that frequently invite severe Aethina tumida infestation. Faced with warming weather and changing climates\, the impact and foot tarsi-print of small hive beetles is increasing every year. \nThis talk will explain how the biology and ecology of these beetles determines their presence and impact on beekeeping\, and the research happening here in the US and elsewhere on their control.
URL:https://bostonbeekeepers.org/single-event/frontiers-in-small-hive-beetle-control/
END:VEVENT
END:VCALENDAR