BEGIN:VCALENDAR
VERSION:2.0
PRODID:-//Boston Area Beekeepers Association - ECPv6.15.20//NONSGML v1.0//EN
CALSCALE:GREGORIAN
METHOD:PUBLISH
X-WR-CALNAME:Boston Area Beekeepers Association
X-ORIGINAL-URL:https://bostonbeekeepers.org
X-WR-CALDESC:Events for Boston Area Beekeepers Association
REFRESH-INTERVAL;VALUE=DURATION:PT1H
X-Robots-Tag:noindex
X-PUBLISHED-TTL:PT1H
BEGIN:VTIMEZONE
TZID:America/New_York
BEGIN:DAYLIGHT
TZOFFSETFROM:-0500
TZOFFSETTO:-0400
TZNAME:EDT
DTSTART:20230312T070000
END:DAYLIGHT
BEGIN:STANDARD
TZOFFSETFROM:-0400
TZOFFSETTO:-0500
TZNAME:EST
DTSTART:20231105T060000
END:STANDARD
BEGIN:DAYLIGHT
TZOFFSETFROM:-0500
TZOFFSETTO:-0400
TZNAME:EDT
DTSTART:20240310T070000
END:DAYLIGHT
BEGIN:STANDARD
TZOFFSETFROM:-0400
TZOFFSETTO:-0500
TZNAME:EST
DTSTART:20241103T060000
END:STANDARD
BEGIN:DAYLIGHT
TZOFFSETFROM:-0500
TZOFFSETTO:-0400
TZNAME:EDT
DTSTART:20250309T070000
END:DAYLIGHT
BEGIN:STANDARD
TZOFFSETFROM:-0400
TZOFFSETTO:-0500
TZNAME:EST
DTSTART:20251102T060000
END:STANDARD
END:VTIMEZONE
BEGIN:VEVENT
DTSTART;TZID=America/New_York:20240627T190000
DTEND;TZID=America/New_York:20240627T203000
DTSTAMP:20260425T113452
CREATED:20240614T175018Z
LAST-MODIFIED:20240627T120618Z
UID:10000152-1719514800-1719520200@bostonbeekeepers.org
SUMMARY:BABA Presentation: Honey bees and native flower visitors in a Boston suburb
DESCRIPTION:Prof. Primack will describe the results of a survey of insect visitation to plants in Newton\, a suburb in metropolitan Boston with extensive conservation areas and gardens. Honey bees\, bumblebees\, and solitary bees were found in a wide variety of cultivated\, native\, adventive\, and pollinator garden plants. The most visited plants were generally visited by mixtures of honey bees and native pollinators\, suggesting that honey bees and native bees can coexist. The talk will conclude with recommendations to reduce threats to native flower-visiting insects\, such as herbicide and pesticide use\, and to increase the resources available to flower visitors by planting pollinator gardens. \nRichard Primack is a Professor of Biology at Boston University with interests in plant ecology\, conservation biology\, climate change biology\, and tropical rain forests. He was the Editor-in-Chief of the international journal Biological Conservation and is the author of four widely used conservation biology textbooks for which 38 foreign language editions have been produced with local co-authors adding in examples from their own countries. \nZoom Link: https://us06web.zoom.us/j/88440859107?pwd=9wmgbYaMqXIFHyd8Doi0Zjkog3kAPG.1
URL:https://bostonbeekeepers.org/single-event/honey-bees-and-native-flower-visitors-in-a-boston-suburb/
LOCATION:https://us06web.zoom.us/j/88440859107?pwd=9wmgbYaMqXIFHyd8Doi0Zjkog3kAPG.1
END:VEVENT
END:VCALENDAR