BEGIN:VCALENDAR
VERSION:2.0
PRODID:-//Boston Area Beekeepers Association - ECPv6.15.20//NONSGML v1.0//EN
CALSCALE:GREGORIAN
METHOD:PUBLISH
X-WR-CALNAME:Boston Area Beekeepers Association
X-ORIGINAL-URL:https://bostonbeekeepers.org
X-WR-CALDESC:Events for Boston Area Beekeepers Association
REFRESH-INTERVAL;VALUE=DURATION:PT1H
X-Robots-Tag:noindex
X-PUBLISHED-TTL:PT1H
BEGIN:VTIMEZONE
TZID:America/New_York
BEGIN:DAYLIGHT
TZOFFSETFROM:-0500
TZOFFSETTO:-0400
TZNAME:EDT
DTSTART:20240310T070000
END:DAYLIGHT
BEGIN:STANDARD
TZOFFSETFROM:-0400
TZOFFSETTO:-0500
TZNAME:EST
DTSTART:20241103T060000
END:STANDARD
BEGIN:DAYLIGHT
TZOFFSETFROM:-0500
TZOFFSETTO:-0400
TZNAME:EDT
DTSTART:20250309T070000
END:DAYLIGHT
BEGIN:STANDARD
TZOFFSETFROM:-0400
TZOFFSETTO:-0500
TZNAME:EST
DTSTART:20251102T060000
END:STANDARD
BEGIN:DAYLIGHT
TZOFFSETFROM:-0500
TZOFFSETTO:-0400
TZNAME:EDT
DTSTART:20260308T070000
END:DAYLIGHT
BEGIN:STANDARD
TZOFFSETFROM:-0400
TZOFFSETTO:-0500
TZNAME:EST
DTSTART:20261101T060000
END:STANDARD
END:VTIMEZONE
BEGIN:VEVENT
DTSTART;TZID=America/New_York:20250925T190000
DTEND;TZID=America/New_York:20250925T210000
DTSTAMP:20260424T060000
CREATED:20250902T011015Z
LAST-MODIFIED:20250917T013522Z
UID:10000300-1758826800-1758834000@bostonbeekeepers.org
SUMMARY:Splits and Varroa Mites Presentation
DESCRIPTION:Join us and Bill Hesbach on Thursday\, September 25th\, 7 pm for a Splits and Mite presentation! This talk is for beekeepers looking for less toxic and more natural treatment alternatives\, emphasizing that successful Varroa control can be aided by timing splits based on brood cycles and corresponding Varroa reproduction. Bill Hesbach is a Connecticut native with a background in engineering. He’s an Eastern Apicultural Society Certified Master Beekeeper\, a graduate of the University of Montana’s master beekeeping program\, and the President of the Connecticut Beekeepers Association. \nThere will be a $5 charge for non-members to attend this presentation \nZoom link: https://us06web.zoom.us/j/83399870202
URL:https://bostonbeekeepers.org/single-event/splits-and-varroa-mites-presentation/
LOCATION:Zoom link: https://us06web.zoom.us/j/84988639089?pwd=A7wyv1GEFDdv1X4eeZfVv9IDKnElrt.1
END:VEVENT
END:VCALENDAR