BEGIN:VCALENDAR
VERSION:2.0
PRODID:-//Boston Area Beekeepers Association - ECPv6.15.20//NONSGML v1.0//EN
CALSCALE:GREGORIAN
METHOD:PUBLISH
X-WR-CALNAME:Boston Area Beekeepers Association
X-ORIGINAL-URL:https://bostonbeekeepers.org
X-WR-CALDESC:Events for Boston Area Beekeepers Association
REFRESH-INTERVAL;VALUE=DURATION:PT1H
X-Robots-Tag:noindex
X-PUBLISHED-TTL:PT1H
BEGIN:VTIMEZONE
TZID:America/New_York
BEGIN:DAYLIGHT
TZOFFSETFROM:-0500
TZOFFSETTO:-0400
TZNAME:EDT
DTSTART:20250309T070000
END:DAYLIGHT
BEGIN:STANDARD
TZOFFSETFROM:-0400
TZOFFSETTO:-0500
TZNAME:EST
DTSTART:20251102T060000
END:STANDARD
BEGIN:DAYLIGHT
TZOFFSETFROM:-0500
TZOFFSETTO:-0400
TZNAME:EDT
DTSTART:20260308T070000
END:DAYLIGHT
BEGIN:STANDARD
TZOFFSETFROM:-0400
TZOFFSETTO:-0500
TZNAME:EST
DTSTART:20261101T060000
END:STANDARD
BEGIN:DAYLIGHT
TZOFFSETFROM:-0500
TZOFFSETTO:-0400
TZNAME:EDT
DTSTART:20270314T070000
END:DAYLIGHT
BEGIN:STANDARD
TZOFFSETFROM:-0400
TZOFFSETTO:-0500
TZNAME:EST
DTSTART:20271107T060000
END:STANDARD
END:VTIMEZONE
BEGIN:VEVENT
DTSTART;TZID=America/New_York:20260122T190000
DTEND;TZID=America/New_York:20260122T210000
DTSTAMP:20260423T190234
CREATED:20260105T211223Z
LAST-MODIFIED:20260105T211223Z
UID:10000304-1769108400-1769115600@bostonbeekeepers.org
SUMMARY:Adding Beeswax to Make Honeycomb Presentation
DESCRIPTION:Join BABA and Dave Wade on Thursday\, January 22nd at 7 PM for a presentation on Adding Beeswax to Honeycomb! \nAdding Beeswax to Make Honeycomb- A New Discovery\nAdd rolled-up pieces of wax foundation to your hives to get the bees to build comb or to get the bees to complete construction on partially built-out frames. Dave will demonstrate how he got the bees to build comb using this method through late-season August and September of 2024. The bees built honey frames and brood frames. Short on built-out comb and your hive is becoming honey bound late in the season? Learn how to remedy the situation by getting the bees to build comb with wax provided to them. Dave will also discuss his 2025 spring experiment using six-package hives to see if they build out stronger and faster when provided with wax rolls. Wouldn’t it be nice if the bees built out significantly more comb and made more honey because they did not need to consume their stores to make wax? Also\, learn a method of giving your rendered wax back to the bees for them to build new comb. \n\n\n\n\n\n\nDave has been a hobby beekeeper in Sturbridge\, MA for 19 years. His wax adding method to build comb has been seen in the June 2025 edition of American Bee Journal. That article was also recently reprinted in an Australian bee journal\, named The Australasian Beekeeper Magazine. Dave has three wax adding articles in the MA Beekeepers Association newsletter.  He has given a number of bee club presentations throughout New England\, along with an on-line one hosted by Dr. David Tarpy\, of North Carolina State University. Dave will also be presenting at the American Beekeeping Federation annual conference and trade show in January 2026\, in Mobile\, AL. \nThere will be a $5 charge for non-members to attend this presentation \nZoom link: \n\n\n\nhttps://us06web.zoom.us/j/86515183365 \n 
URL:https://bostonbeekeepers.org/single-event/adding-beeswax-to-make-honeycomb-presentation/
LOCATION:https://us06web.zoom.us/meetings/86515183365/invitations?signature=8-xgVPeeTZXpSogxoMVprqzMHAHZItajlCFOFUKAe58
END:VEVENT
END:VCALENDAR