BEGIN:VCALENDAR
VERSION:2.0
PRODID:-//Boston Area Beekeepers Association - ECPv6.15.20//NONSGML v1.0//EN
CALSCALE:GREGORIAN
METHOD:PUBLISH
X-ORIGINAL-URL:https://bostonbeekeepers.org
X-WR-CALDESC:Events for Boston Area Beekeepers Association
REFRESH-INTERVAL;VALUE=DURATION:PT1H
X-Robots-Tag:noindex
X-PUBLISHED-TTL:PT1H
BEGIN:VTIMEZONE
TZID:America/New_York
BEGIN:DAYLIGHT
TZOFFSETFROM:-0500
TZOFFSETTO:-0400
TZNAME:EDT
DTSTART:20230312T070000
END:DAYLIGHT
BEGIN:STANDARD
TZOFFSETFROM:-0400
TZOFFSETTO:-0500
TZNAME:EST
DTSTART:20231105T060000
END:STANDARD
BEGIN:DAYLIGHT
TZOFFSETFROM:-0500
TZOFFSETTO:-0400
TZNAME:EDT
DTSTART:20240310T070000
END:DAYLIGHT
BEGIN:STANDARD
TZOFFSETFROM:-0400
TZOFFSETTO:-0500
TZNAME:EST
DTSTART:20241103T060000
END:STANDARD
BEGIN:DAYLIGHT
TZOFFSETFROM:-0500
TZOFFSETTO:-0400
TZNAME:EDT
DTSTART:20250309T070000
END:DAYLIGHT
BEGIN:STANDARD
TZOFFSETFROM:-0400
TZOFFSETTO:-0500
TZNAME:EST
DTSTART:20251102T060000
END:STANDARD
END:VTIMEZONE
BEGIN:VEVENT
DTSTART;TZID=America/New_York:20241102T080000
DTEND;TZID=America/New_York:20241102T153000
DTSTAMP:20260423T190749
CREATED:20241008T185915Z
LAST-MODIFIED:20241008T191550Z
UID:10000217-1730534400-1730561400@bostonbeekeepers.org
SUMMARY:Non-BABA: Mass Bee Fall 2024 Meeting
DESCRIPTION:2024 Fall Meeting Flyer (1)
URL:https://bostonbeekeepers.org/single-event/non-baba-mass-bee-fall-2024-meeting/
LOCATION:Plymouth North HS\, Plymouth\, MA\, Plymouth North High School\, Plymouth\, MA\, United States
END:VEVENT
END:VCALENDAR